BEGIN:VCALENDAR
VERSION:2.0
PRODID:-//Macy Wood Studios - ECPv6.15.20//NONSGML v1.0//EN
CALSCALE:GREGORIAN
METHOD:PUBLISH
X-ORIGINAL-URL:https://macywood.com
X-WR-CALDESC:Events for Macy Wood Studios
REFRESH-INTERVAL;VALUE=DURATION:PT1H
X-Robots-Tag:noindex
X-PUBLISHED-TTL:PT1H
BEGIN:VTIMEZONE
TZID:UTC
BEGIN:STANDARD
TZOFFSETFROM:+0000
TZOFFSETTO:+0000
TZNAME:UTC
DTSTART:20240101T000000
END:STANDARD
END:VTIMEZONE
BEGIN:VEVENT
DTSTART;TZID=UTC:20250525T110000
DTEND;TZID=UTC:20250525T160000
DTSTAMP:20260424T152755
CREATED:20250525T060811Z
LAST-MODIFIED:20250525T060811Z
UID:3326-1748170800-1748188800@macywood.com
SUMMARY:Sparkling Delicious at the Mystic Market – Lucky Dime in Everett
DESCRIPTION:The Mystic Market Everett is happening this Sunday\, May 25\, and Sparkling Delicious is excited to join the magic for the very first time! This vibrant pop-up market takes place at The Lucky Dime\, a beloved Everett venue known for hosting eclectic and creative community events. From 11am to 4pm\, come enjoy the mystical vibes and shop a curated lineup of handmade treasures. \nThis will be Sparkling Delicious’ debut at Mystic Market\, and we’re bringing all the sparkle. You’ll find an enchanting collection of handcrafted crystal jewelry\, electroformed copper amulets\, and statement pendants made with ethically sourced butterfly wings. Each one-of-a-kind piece is crafted using high-vibe stones like crystal quartz\, moonstone\, amethyst\, and Labradorite\, chosen for their energetic beauty and healing properties. \nDiscover the Magic at Mystic Market Everett\nThe Mystic Market is your chance to experience the Pacific Northwest’s metaphysical art scene all in one place. You’ll find local vendors offering tarot readings\, herbal remedies\, spellcraft goods\, and unique handcrafted items that align with your spirit and style. \nWe’re thrilled to introduce Sparkling Delicious to this creative marketplace. Whether you’re seeking energetic support\, a new signature necklace\, or the perfect magical gift\, you’ll find plenty to fall in love with at our table. Each jewelry piece is designed with love. \nDon’t Miss These Crystal & Stone Carvings\nAlong with jewelry\, I’ll have a lovely little selection of crystal and stone carvings available. These include celestial symbols\, animal totems\, and elemental shapes\, ideal for spiritual decor\, rituals\, or gifting to the crystal lover in your life. \nCrystals make me happy!
URL:https://macywood.com/event/sparkling-delicious-at-the-mystic-market-lucky-dime-in-everett/
LOCATION:Lucky Dime\, 1618 Hewitt\, Everett\, WA\, United States
CATEGORIES:Shows
ATTACH;FMTTYPE=image/jpeg:https://macywood.com/wp-content/uploads/2025/05/494358178_1330172644728650_319799573981578372_n.jpg
END:VEVENT
END:VCALENDAR