BEGIN:VCALENDAR
VERSION:2.0
PRODID:-//Macy Wood Studios - ECPv6.15.20//NONSGML v1.0//EN
CALSCALE:GREGORIAN
METHOD:PUBLISH
X-WR-CALNAME:Macy Wood Studios
X-ORIGINAL-URL:https://macywood.com
X-WR-CALDESC:Events for Macy Wood Studios
REFRESH-INTERVAL;VALUE=DURATION:PT1H
X-Robots-Tag:noindex
X-PUBLISHED-TTL:PT1H
BEGIN:VTIMEZONE
TZID:UTC
BEGIN:STANDARD
TZOFFSETFROM:+0000
TZOFFSETTO:+0000
TZNAME:UTC
DTSTART:20230101T000000
END:STANDARD
END:VTIMEZONE
BEGIN:VTIMEZONE
TZID:America/Los_Angeles
BEGIN:DAYLIGHT
TZOFFSETFROM:-0800
TZOFFSETTO:-0700
TZNAME:PDT
DTSTART:20230312T100000
END:DAYLIGHT
BEGIN:STANDARD
TZOFFSETFROM:-0700
TZOFFSETTO:-0800
TZNAME:PST
DTSTART:20231105T090000
END:STANDARD
BEGIN:DAYLIGHT
TZOFFSETFROM:-0800
TZOFFSETTO:-0700
TZNAME:PDT
DTSTART:20240310T100000
END:DAYLIGHT
BEGIN:STANDARD
TZOFFSETFROM:-0700
TZOFFSETTO:-0800
TZNAME:PST
DTSTART:20241103T090000
END:STANDARD
BEGIN:DAYLIGHT
TZOFFSETFROM:-0800
TZOFFSETTO:-0700
TZNAME:PDT
DTSTART:20250309T100000
END:DAYLIGHT
BEGIN:STANDARD
TZOFFSETFROM:-0700
TZOFFSETTO:-0800
TZNAME:PST
DTSTART:20251102T090000
END:STANDARD
END:VTIMEZONE
BEGIN:VEVENT
DTSTART;VALUE=DATE:20250426
DTEND;VALUE=DATE:20250428
DTSTAMP:20260424T164317
CREATED:20250423T235016Z
LAST-MODIFIED:20250424T180530Z
UID:3290-1745625600-1745798399@macywood.com
SUMMARY:Sparkling Delicious Crystal Jewelry at BEPC Expo Kent April 26-27
DESCRIPTION:Sparkling Delicious Crystal Jewelry will be featured at BEPC Expo Kent on April 26-27! We’re excited to bring our exclusive collection of handcrafted jewelry made from quartz\, moonstone\, and ethically sourced butterfly wings. If you’re a fan of unique\, metaphysical jewelry\, our booth is the place to be! \nWhat’s New at the Sparkling Delicious Booth?\nAt this year’s BEPC Expo Kent\, we’re unveiling several new pieces of Sparkling Delicious Crystal Jewelry. From quartz necklaces to moonstone earrings\, these one-of-a-kind pieces are designed to add both beauty and energy to your life. Here’s a sneak peek at some of our newest creations: \n\n\nQuartz Jewelry: Known for its powerful healing properties\, quartz is believed to amplify energy and promote clarity.\nExplore our Quartz Pendants and Amulets\, designed to empower and balance. \n\n\nMoonstone Jewelry: Moonstone is the stone of intuition and emotional healing.\nCheck out our new pendants\, perfect for enhancing inner peace. \n\n\nWhy Visit Sparkling Delicious at BEPC Expo Kent?\nSparkling Delicious will showcase exclusive pieces only available at the BEPC Expo Kent. You won’t find these designs anywhere else! Here are a few reasons to stop by our booth: \n\n\nExclusive Jewelry: Our exclusive pieces at BEPC Expo Kent include designs you won’t find in our regular collection. Visit us and discover something truly special. \n\n\nMeet the Designer: Meet the creator behind Sparkling Delicious Crystal Jewelry and learn about the inspiration behind each piece. We love sharing the story of our jewelry. \n\n\nPerfect Gifts: Looking for a thoughtful\, one-of-a-kind gift? Our crystal jewelry is perfect for anyone who loves unique\, meaningful accessories. \n\n\nThe Power of Crystals\nAt Sparkling Delicious\, we believe in the transformative power of crystals. Each of our crystal jewelry pieces is made with stones known for their powerful metaphysical properties: \n\n\nQuartz: Often referred to as the “master healer\,” quartz is known for amplifying energy and clearing negative vibes. \n\n\nMoonstone: This stone is a symbol of emotional balance and spiritual growth\, perfect for those seeking inner harmony. \n\n\nLabradorite: Known for its ability to enhance intuition\, labradorite jewelry provides energy and protection. \n\n\nJoin Us at BEPC Expo Kent!\nVisit Sparkling Delicious at BEPC Expo Kent on April 26-27! We’ll have an exclusive collection of quartz\, moonstone\, and butterfly wing jewelry at our booth. Whether you’re new to crystals or a seasoned collector\, we have something unique and meaningful just for you. \nWe can’t wait to meet you and share our crystal jewelry with you. See you at the expo!
URL:https://macywood.com/event/bepc-expo-sparkling-delicious-crystal-jewelry/
LOCATION:Kent Commons\, 525 4th Ave N\, Kent\, WA\, 98030\, United States
CATEGORIES:Shows
ATTACH;FMTTYPE=image/jpeg:https://macywood.com/wp-content/uploads/2025/04/2025SparklingDeliciousHeader.jpg
END:VEVENT
BEGIN:VEVENT
DTSTART;VALUE=DATE:20241019
DTEND;VALUE=DATE:20241021
DTSTAMP:20260424T164317
CREATED:20241018T235004Z
LAST-MODIFIED:20241018T235004Z
UID:3172-1729296000-1729468799@macywood.com
SUMMARY:Sparkling Delicious BEPC Expo Kent
DESCRIPTION:Join Sparkling Delicious at BEPC Expo Kent for a Weekend of Magic and Inspiration!\nWe’re thrilled to announce that Sparkling Delicious will be at the BEPC Expo in Kent on Saturday\, October 19 and Sunday\, October 20. This event\, organized by the Body\, Mind\, & Spirit Wellness Community\, is a celebration of holistic health\, metaphysical practices\, and spiritual well-being. It’s the perfect opportunity to explore a wide range of products\, connect with like-minded individuals\, and delve deeper into your personal journey. We can’t wait to share our treasures with you! \nDiscover Sparkling Delicious at the BEPC Expo\nAt our booth\, you’ll find a unique collection of magical crystals and stones ready to inspire and elevate your spiritual practices. Here’s a sneak peek of what we’ll be featuring: \n\nGorgeous Crystals: We’re bringing a stunning variety of crystals that are perfect for energy work\, meditation\, or simply adding a touch of natural beauty to your home.\nUnique Stone Carvings: These one-of-a-kind pieces are not only beautiful but carry deep symbolic meanings. Each carving is meticulously crafted\, making them a must-have for any crystal collector.\nElectroformed and Wire-Wrapped Jewelry: My jewelry is handcrafted with care\, featuring crystals and stones electroformed or wrapped in intricate wire designs. Each piece is unique\, making it a perfect gift for yourself or someone special.\nFun\, Whimsical Stickers: Add a bit of playful charm to your personal items with our delightful stickers. From mystical creatures to crystal designs\, they’re perfect for journals\, laptops\, and more!\n\nBEPC Expo Kent Details:\nThe BEPC Expo is the go-to event for anyone interested in holistic health\, spiritual practices\, and metaphysical tools. With a wide variety of vendors\, speakers\, and workshops\, it’s a great place to learn\, shop\, and connect. \n\nEvent Dates: Saturday\, October 19 & Sunday\, October 20\nLocation: Kent Commons Community Center\, 525 4th Ave N\, Kent\, WA 98032\nHours: 10:00 AM – 5:00 PM both days\nAdmission: Free!\n\nWhether you’re new to the world of crystals and metaphysical tools or a seasoned practitioner\, the BEPC Expo Kent offers something for everyone. Be sure to visit the Sparkling Delicious booth to explore our beautiful collection of spiritual and whimsical items. \nConnect With Us\nWe’re looking forward to connecting with you at the BEPC Expo! Be sure to follow us on Instagram and Facebook for sneak peeks\, updates\, and exclusive event deals. Don’t forget to tag us in your photos—let us see how you incorporate your new Sparkling Delicious finds into your life! \nCome visit Sparkling Delicious at the BEPC Expo on October 19 and 20\, and make your weekend a magical one!
URL:https://macywood.com/event/sparkling-delicious-bepc-expo-kent/
LOCATION:WA
ATTACH;FMTTYPE=image/jpeg:https://macywood.com/wp-content/uploads/2024/10/2024SparklingDeliciousBEPCHeader.jpg
END:VEVENT
BEGIN:VEVENT
DTSTART;VALUE=DATE:20240504
DTEND;VALUE=DATE:20240506
DTSTAMP:20260424T164317
CREATED:20240503T230643Z
LAST-MODIFIED:20240503T230643Z
UID:3008-1714780800-1714953599@macywood.com
SUMMARY:MeWe Fair Gem Show Lynnwood May 2024
DESCRIPTION:Sparkling Delicious Rock & Gem Show\nThis weekend\, join Sparkling Delicious at the MeWe Fair for an experience like no other\, where crystals\, gems\, stone carvings and hand crafted jewelry steal the show. \nThis Fair brings together a tribe of seekers\, healers\, and spiritual enthusiasts in an uplifting and inspiring community. Indulge your curiosity as you peruse through an eclectic mix of crystals and stone carvings\, each whispering tales of ancient wisdom and beauty. From stunning jewelry pieces to rare finds\, there truly is something for everyone at Sparkling Delicious. \nMark your calendars for Saturday\, May 4th\, from 11 AM to 7 PM\, and Sunday\, May 5th\, from 11 AM to 5 PM. Swing by the Atrium inside Embassy Suites Hilton in Lynnwood and let the magic unfold. Can’t wait to see you there!
URL:https://macywood.com/event/mewe-fair-gem-show-lynnwood-may-2024/
LOCATION:Embassy Suites Hilton\, 20610 44th Ave W\, Lynnwood\, WA\, 98036\, United States
ATTACH;FMTTYPE=image/jpeg:https://macywood.com/wp-content/uploads/2024/05/2024_05MeWeLynnwood.jpg
END:VEVENT
END:VCALENDAR