BEGIN:VCALENDAR
VERSION:2.0
PRODID:-//Macy Wood Studios - ECPv6.15.20//NONSGML v1.0//EN
CALSCALE:GREGORIAN
METHOD:PUBLISH
X-WR-CALNAME:Macy Wood Studios
X-ORIGINAL-URL:https://macywood.com
X-WR-CALDESC:Events for Macy Wood Studios
REFRESH-INTERVAL;VALUE=DURATION:PT1H
X-Robots-Tag:noindex
X-PUBLISHED-TTL:PT1H
BEGIN:VTIMEZONE
TZID:UTC
BEGIN:STANDARD
TZOFFSETFROM:+0000
TZOFFSETTO:+0000
TZNAME:UTC
DTSTART:20240101T000000
END:STANDARD
END:VTIMEZONE
BEGIN:VEVENT
DTSTART;TZID=UTC:20250727T110000
DTEND;TZID=UTC:20250727T160000
DTSTAMP:20260424T133641
CREATED:20250726T045905Z
LAST-MODIFIED:20250726T045905Z
UID:3377-1753614000-1753632000@macywood.com
SUMMARY:Sparkling Delicious at The Mystic Market
DESCRIPTION:Looking for a little Sunday sparkle? Join Sparkling Delicious at The Mystic Market in Everett this Sunday\, July 27\, from 11am to 4pm at Lucky Dime for a sweet and soulful art market. This cozy venue is the perfect spot for a magical midsummer outing\, and Sparkling Delicious will be there with a table full of crystal jewelry and enchanted stone carvings – curated just for this one-day-only event. \nThis intimate setup is a chance to experience the very best of Sparkling Delicious. The table will be filled with our most enchanting crystal jewelry and one-of-a-kind stone carvings – each piece hand-selected for its energy\, artistry\, and charm. Whether you’re drawn to glittering gems or earthy magic\, you’ll find something special here. Expect a glittering lineup of fantasy crystal jewelry\, each piece imbued with intention\, and unique stone and quartz carvings that bring earthy magic to your altar\, home\, or crystal collection. \n\nThe Mystic Market – Lucky Dime\nDiscover Magical Jewelry and Awesome Stone Carvings\nAt the Mystic Market in Everett\, Sparkling Delicious is bringing a hand-picked selection of the finest wearable magic. From electroformed copper jewelry glowing with raw quartz and moonstone\, to dreamy amulet necklaces inspired by fairytales and forest spirits\, every piece is infused with wonder and made with love. \nAlso on the table: a curated selection of stone carvings\, including skulls\, mushrooms\, unicorns\, goddesses\, and other whimsical figures crafted from natural crystals and gemstones. If you’re looking for something that blends mystical aesthetics with grounding energy\, this is the table to visit. \n\nA Cozy Market With Big Vibes\nThe Mystic Market at the Lucky Dime is a chill\, inclusive event full of talented local makers\, artists\, and spiritual vendors. Whether you’re shopping for crystals\, art\, handmade goods\, or just looking to connect with your local metaphysical community\, this is a lovely way to spend your Sunday. Sparkling Delicious is honored to be part of the market and excited to bringing the sparkle to downtown Everett. \n\nCome See Sparkling Delicious at The Mystic Market in Everett\nIf you’ve been waiting to see Sparkling Delicious in person\, this is your chance! The Mystic Market in Everett will be a small but mighty gathering\, and Sparkling Delicious is bringing only the best of the best. Expect statement pieces\, subtle magic\, and some brand-new crystal treasures that have just arrived this month! \nWhether you’re shopping for yourself\, picking out a gift\, or just want to swing by and say hi\, we’d love to see your face. Come support small businesses\, find something magical\, and enjoy an afternoon in one of Everett’s coolest local spots. \n\nEvent Details:📍 The Lucky Dime – 1618 Hewitt Ave\, Everett\, WA🗓️ Sunday\, July 27\, 2025🕚 11:00 AM – 4:00 PM \nWe can’t wait to see you at The Mystic Market at Lucky Dime! Follow us on Instagram @sparklingdelicious !
URL:https://macywood.com/event/sparkling-delicious-at-the-mystic-market/
LOCATION:Lucky Dime\, 1618 Hewitt\, Everett\, WA\, United States
CATEGORIES:Shows
ATTACH;FMTTYPE=image/jpeg:https://macywood.com/wp-content/uploads/2025/07/2025JulySDMysticMarketLD00000.jpg
END:VEVENT
BEGIN:VEVENT
DTSTART;TZID=UTC:20250803T120000
DTEND;TZID=UTC:20250803T180000
DTSTAMP:20260424T133641
CREATED:20250801T220530Z
LAST-MODIFIED:20250801T220530Z
UID:3396-1754222400-1754244000@macywood.com
SUMMARY:Sparkling Delicious Joins PNW Witches' Market for Lammas Lughnasadh Festival
DESCRIPTION:We are thrilled to announce that Sparkling Delicious will be vending at the PNW Witches’ Market for the very first time. Join us on Sunday\, August 3\, in Kirkland\, WA\, for the Lammas Lughnasadh Festival\, a magical celebration of the first harvest and the turning of the wheel of the year. This enchanting event is the perfect place to welcome the season and explore handmade goods\, ritual tools\, and mystical creations from local artists and witches. \nThe weather forecast calls for a perfect summer day\, with sunny skies and a comfortable high of 73 degrees. With beautiful weather\, vibrant energy\, and a marketplace full of intention\, you will not want to miss it. Come see us at booth H08! \nA Magical Debut at the PNW Witches’ Market\nThis is Sparkling Delicious’s first time vending with the PNW Witches’ Market\, and we are so excited to share our work with this vibrant community. Our booth will be thoughtfully arranged with a curated collection of our finest pieces\, selected especially for the energy of this seasonal celebration. \nYou will find fantasy crystal jewelry designed to inspire and empower\, along with unique stone carvings that bring a touch of earth magic into your home\, altar\, or sacred space. Every item we offer has been lovingly handmade or curated with care by artist Macy Wood\, the creator behind Sparkling Delicious. \nFrom glowing labradorite amulets to copper-wrapped quartz talismans and otherworldly carvings of snakes\, mushrooms\, and moths\, everything we bring to this event will carry deep symbolic energy. Whether you are shopping for ritual adornments\, spiritual gifts\, or simply something beautiful and meaningful\, there will be something magical waiting for you. \nCelebrate Lammas with Intention\nThe Lammas Lughnasadh Festival honors abundance\, gratitude\, and the shift toward autumn. It is a sacred time to celebrate the harvest\, set intentions for the coming months\, and connect with community. The PNW Witches’ Market brings together witches\, herbalists\, crafters\, energy workers\, and magical makers of all kinds to create a truly special space for celebration and exchange. \nWe are honored to be part of this event and look forward to meeting new friends\, fellow witches\, and crystal lovers. Come by the Sparkling Delicious table to browse\, chat\, and find a piece that calls to your spirit. \nEvent Details\nEvent: PNW Witches’ Market Lammas Lughnasadh FestivalDate: Sunday\, August 3\, 2025Time: 12 PM to 6 PMLocation: Kirkland\, WAWeather Forecast: Sunny and 73°FHosted by: PNW Witches’ Market \nVisit Sparkling Delicious at the PNW Witches’ Market\nWhether you are a long-time fan or discovering Sparkling Delicious for the first time\, we invite you to visit our table and explore the magic. This is one of the most spirited markets of the season\, and we are bringing our absolute best. \nMark your calendar for Sunday\, August 3\, and come celebrate Lammas with us at the PNW Witches’ Market. We cannot wait to see you there.
URL:https://macywood.com/event/pnw-witches-market-august-3/
LOCATION:Marina Park\, 25 Lakeshore Plaza\, Kirkland\, WA\, 98033\, United States
CATEGORIES:Shows
ATTACH;FMTTYPE=image/jpeg:https://macywood.com/wp-content/uploads/2025/08/2025SDLammasFest.jpg
END:VEVENT
END:VCALENDAR