BEGIN:VCALENDAR
VERSION:2.0
PRODID:-//Macy Wood Studios - ECPv6.15.20//NONSGML v1.0//EN
CALSCALE:GREGORIAN
METHOD:PUBLISH
X-WR-CALNAME:Macy Wood Studios
X-ORIGINAL-URL:https://macywood.com
X-WR-CALDESC:Events for Macy Wood Studios
REFRESH-INTERVAL;VALUE=DURATION:PT1H
X-Robots-Tag:noindex
X-PUBLISHED-TTL:PT1H
BEGIN:VTIMEZONE
TZID:UTC
BEGIN:STANDARD
TZOFFSETFROM:+0000
TZOFFSETTO:+0000
TZNAME:UTC
DTSTART:20240101T000000
END:STANDARD
END:VTIMEZONE
BEGIN:VEVENT
DTSTART;TZID=UTC:20250531T100000
DTEND;TZID=UTC:20250531T160000
DTSTAMP:20260424T145143
CREATED:20250530T222924Z
LAST-MODIFIED:20250530T223616Z
UID:3335-1748685600-1748707200@macywood.com
SUMMARY:Enchanted Crystal Jewelry at Alchemy Fair – Sparkling Delicious in Everett on May 31
DESCRIPTION:Get ready for a magical Saturday! Sparkling Delicious is bringing its stunning collection of enchanted crystal jewelry to the Alchemy Fair in Everett on May 31\, 2025\, from 10:00 AM to 4:00 PM. Find us in the Ballroom at Angel of the Winds Arena\, located at 2000 Hewitt Ave\, Everett\, WA 98201. Whether you’re a longtime crystal lover or simply enchanted by beautiful craftsmanship\, this event is your portal to sparkle\, stone\, and spirit. \nDiscover Enchanted Crystal Jewelry by Sparkling Delicious\nOur signature enchanted crystal jewelry is handcrafted with care and intention. From electroformed copper pendants to Butterfly Amulets\, each piece is a wearable work of art. Designed using powerful stones like amethyst\, moonstone\, labradorite\, and Lemurian Quartz\, these pieces are ideal for anyone seeking both beauty and energy alignment. \nAt this event\, you’ll find a fresh array of newly created pieces just for the season—many featuring statement pendants made with real\, sustainably sourced butterfly wings. Each pendant carries a story of transformation\, nature\, and the mystical. \nWhat Else to Expect at the Alchemy Fair in Everett\nThe Alchemy Fair is an annual metaphysical and holistic showcase with vendors specializing in everything from energy healing to esoteric art. This year’s fair takes place in a beautiful indoor setting—the Ballroom at Angel of the Winds Arena. Expect more than just shopping: you’ll find community connections\, good vibes\, and magical discoveries at every booth. \nEvent Highlights: \n\n\nOver 60 vendors of metaphysical tools\, jewelry\, crystals\, and art \n\n\nFree entry for all ages \n\n\nConvenient parking nearby \n\n\nHeld indoors\, rain or shine \n\n\nMore Than Enchanted Crystal Jewelry – Explore Crystal Carvings & Stones\nIn addition to our enchanted crystal jewelry\, Sparkling Delicious will also offer a beautiful variety of stone and crystal carvings. From mushrooms and animals to mystical symbols and skulls\, these hand-selected pieces make perfect additions to altars\, desks\, or crystal collections. Whether you’re looking for polished crystal spheres or fun\, carved figures\, you’ll find something magical here. \nVisit Sparkling Delicious at the Alchemy Fair – May 31\, 2025\nWe’re excited to be back at this amazing event\, ready to share new creations and connect with the Pacific Northwest’s vibrant mystical community. Come early for the best selection of our enchanted crystal jewelry\, and stay to enjoy the magic of the entire fair. \n📍 Location: Angel of the Winds Arena – Ballroom📅 Date: Saturday\, May 31\, 2025🕙 Time: 10:00 AM – 4:00 PM
URL:https://macywood.com/event/enchanted-crystal-jewelry-alchemy-fair-everett/
LOCATION:Angel of the Winds Arena Ballroom\, 2000 Hewitt Avenue\, Everett\, WA\, 98201\, United States
CATEGORIES:Shows
ATTACH;FMTTYPE=image/jpeg:https://macywood.com/wp-content/uploads/2025/05/2025AlchemyAgateLotus.jpg
END:VEVENT
END:VCALENDAR