BEGIN:VCALENDAR
VERSION:2.0
PRODID:-//Macy Wood Studios - ECPv6.15.20//NONSGML v1.0//EN
CALSCALE:GREGORIAN
METHOD:PUBLISH
X-ORIGINAL-URL:https://macywood.com
X-WR-CALDESC:Events for Macy Wood Studios
REFRESH-INTERVAL;VALUE=DURATION:PT1H
X-Robots-Tag:noindex
X-PUBLISHED-TTL:PT1H
BEGIN:VTIMEZONE
TZID:UTC
BEGIN:STANDARD
TZOFFSETFROM:+0000
TZOFFSETTO:+0000
TZNAME:UTC
DTSTART:20230101T000000
END:STANDARD
END:VTIMEZONE
BEGIN:VEVENT
DTSTART;VALUE=DATE:20241019
DTEND;VALUE=DATE:20241021
DTSTAMP:20260425T112529
CREATED:20241018T235004Z
LAST-MODIFIED:20241018T235004Z
UID:3172-1729296000-1729468799@macywood.com
SUMMARY:Sparkling Delicious BEPC Expo Kent
DESCRIPTION:Join Sparkling Delicious at BEPC Expo Kent for a Weekend of Magic and Inspiration!\nWe’re thrilled to announce that Sparkling Delicious will be at the BEPC Expo in Kent on Saturday\, October 19 and Sunday\, October 20. This event\, organized by the Body\, Mind\, & Spirit Wellness Community\, is a celebration of holistic health\, metaphysical practices\, and spiritual well-being. It’s the perfect opportunity to explore a wide range of products\, connect with like-minded individuals\, and delve deeper into your personal journey. We can’t wait to share our treasures with you! \nDiscover Sparkling Delicious at the BEPC Expo\nAt our booth\, you’ll find a unique collection of magical crystals and stones ready to inspire and elevate your spiritual practices. Here’s a sneak peek of what we’ll be featuring: \n\nGorgeous Crystals: We’re bringing a stunning variety of crystals that are perfect for energy work\, meditation\, or simply adding a touch of natural beauty to your home.\nUnique Stone Carvings: These one-of-a-kind pieces are not only beautiful but carry deep symbolic meanings. Each carving is meticulously crafted\, making them a must-have for any crystal collector.\nElectroformed and Wire-Wrapped Jewelry: My jewelry is handcrafted with care\, featuring crystals and stones electroformed or wrapped in intricate wire designs. Each piece is unique\, making it a perfect gift for yourself or someone special.\nFun\, Whimsical Stickers: Add a bit of playful charm to your personal items with our delightful stickers. From mystical creatures to crystal designs\, they’re perfect for journals\, laptops\, and more!\n\nBEPC Expo Kent Details:\nThe BEPC Expo is the go-to event for anyone interested in holistic health\, spiritual practices\, and metaphysical tools. With a wide variety of vendors\, speakers\, and workshops\, it’s a great place to learn\, shop\, and connect. \n\nEvent Dates: Saturday\, October 19 & Sunday\, October 20\nLocation: Kent Commons Community Center\, 525 4th Ave N\, Kent\, WA 98032\nHours: 10:00 AM – 5:00 PM both days\nAdmission: Free!\n\nWhether you’re new to the world of crystals and metaphysical tools or a seasoned practitioner\, the BEPC Expo Kent offers something for everyone. Be sure to visit the Sparkling Delicious booth to explore our beautiful collection of spiritual and whimsical items. \nConnect With Us\nWe’re looking forward to connecting with you at the BEPC Expo! Be sure to follow us on Instagram and Facebook for sneak peeks\, updates\, and exclusive event deals. Don’t forget to tag us in your photos—let us see how you incorporate your new Sparkling Delicious finds into your life! \nCome visit Sparkling Delicious at the BEPC Expo on October 19 and 20\, and make your weekend a magical one!
URL:https://macywood.com/event/sparkling-delicious-bepc-expo-kent/
ATTACH;FMTTYPE=image/jpeg:https://macywood.com/wp-content/uploads/2024/10/2024SparklingDeliciousBEPCHeader.jpg
END:VEVENT
END:VCALENDAR