BEGIN:VCALENDAR
VERSION:2.0
PRODID:-//Macy Wood Studios - ECPv6.15.20//NONSGML v1.0//EN
CALSCALE:GREGORIAN
METHOD:PUBLISH
X-ORIGINAL-URL:https://macywood.com
X-WR-CALDESC:Events for Macy Wood Studios
REFRESH-INTERVAL;VALUE=DURATION:PT1H
X-Robots-Tag:noindex
X-PUBLISHED-TTL:PT1H
BEGIN:VTIMEZONE
TZID:UTC
BEGIN:STANDARD
TZOFFSETFROM:+0000
TZOFFSETTO:+0000
TZNAME:UTC
DTSTART:20240101T000000
END:STANDARD
END:VTIMEZONE
BEGIN:VEVENT
DTSTART;TZID=UTC:20250622T130000
DTEND;TZID=UTC:20250622T190000
DTSTAMP:20260424T141027
CREATED:20250621T044505Z
LAST-MODIFIED:20250621T054059Z
UID:3352-1750597200-1750618800@macywood.com
SUMMARY:Sparkling Delicious at Summer Solstice Market Snohomish – June 22
DESCRIPTION:It’s time to celebrate the longest day of the year! Sparkling Delicious will be outdoors in the sunshine at the Summer Solstice Market Snohomish on Sunday\, June 22\, from 1:00 PM to 7:00 PM. Held on the beautiful lawn and inside the Snohomish Carnegie Building at 105 Cedar Ave\, this joyful event welcomes over 60 vendors\, good vibes\, and lots of color. \nHosted by Light House Gardens\, Leeza Bee Photography\, and Farmer Frog\, this inclusive seasonal market invites the community to celebrate with handmade goods\, local treats\, music\, and free seeds from Farmer Frog. It’s a vibrant\, welcoming event you won’t want to miss! \n\nSummer Solstice Market\nThis summer\, Sparkling Delicious is showing off a radiant collection of handmade crystal jewelry\, infused with intention and summer magic. From electroformed copper pendants to wire-wrapped moonstone necklaces\, our display will sparkle in the sunshine all afternoon. \nEach piece is made with natural stones like amethyst\, labradorite\, quartz\, and rainbow moonstone—chosen for their beauty\, energy\, and power. Our signature butterfly wing pendants (ethically and sustainably sourced) return with fresh new designs\, perfect for solstice gifting or treating yourself. \n\nExplore the Magic of the Market\nThe Summer Solstice Market Snohomish isn’t just a shopping experience—it’s a community celebration. With over 40 small businesses outdoors in tents and 20 more inside the Carnegie\, there’s something for everyone. \nYou’ll find: \n\nFresh food and local drinks\nMetaphysical vendors\, herbalists\, and artists\nHandmade clothing\, prints\, candles\, and potions\nAnd yes—crystals galore!\n\nCome support small businesses\, enjoy the sunshine\, and celebrate the start of summer in true PNW style. \n\nUnique Finds for Spirit and Home – Crystal Fantasy Jewelry\nWhile most people come to Sparkling Delicious for our jewelry\, we’re also known for our crystal carvings and stone treasures. From carved mushrooms and moons to goddess figures and animals\, each item adds something special to your altar\, windowsill\, or spiritual practice. \nWhether you’re shopping for a birthday\, summer solstice ritual\, or just want something magical to take home\, you’ll find it here.\nAwesome fun stickers too! \n\nEvent Details\n📍 Snohomish Carnegie Building105 Cedar Ave\, Snohomish\, WA📅 Sunday\, June 22\, 2025🕐 1:00 PM – 7:00 PM🎟️ Free Admission🌈 All are welcome – rainbows encouraged!
URL:https://macywood.com/event/summer-solstice-market-snohomish-sparkling-delicious/
LOCATION:Snohomish Carnegie Building\, 105 Cedar Ave\, Snohomish\, WA\, 98290
CATEGORIES:Shows
ATTACH;FMTTYPE=image/jpeg:https://macywood.com/wp-content/uploads/2025/06/2025SummerSolsticeMarketSD.jpg
END:VEVENT
END:VCALENDAR